BEGIN:VCALENDAR
VERSION:2.0
PRODID:-//ChamberMaster//Event Calendar 2.0//EN
METHOD:PUBLISH
X-PUBLISHED-TTL:P3D
REFRESH-INTERVAL:P3D
CALSCALE:GREGORIAN
BEGIN:VEVENT
DTSTART:20160504T220000Z
DTEND:20160505T010000Z
X-MICROSOFT-CDO-ALLDAYEVENT:FALSE
SUMMARY:Susan Law Dake & Stewart's Foundation honored by Boy Scouts
DESCRIPTION:The Stewart's Foundation and its president\, Susan Law Dake\, are being honored for their outstanding service to the community at the Saratoga Good Scout Award dinner. Local organizations and individuals are invited to become dinner Sponsors\, members of the Honorary Committee\, dinner attendees\, or donors to the silent auction.
X-ALT-DESC;FMTTYPE=text/html:The Stewart&#39\;s Foundation and its president\, Susan Law Dake\, are being honored for their outstanding service to the community at the Saratoga Good Scout Award dinner. Local organizations and individuals are invited to become dinner Sponsors\, members of the Honorary Committee\, dinner attendees\, or donors to the silent auction.
LOCATION:Saratoga Springs City Center
UID:e.2254.16332
SEQUENCE:3
DTSTAMP:20260421T160720Z
URL:https://chamber.saratoga.org/events/details/susan-law-dake-stewart-s-foundation-honored-by-boy-scouts-05-04-2016-16332
END:VEVENT

END:VCALENDAR
