BEGIN:VCALENDAR
VERSION:2.0
PRODID:-//ChamberMaster//Event Calendar 2.0//EN
METHOD:PUBLISH
X-PUBLISHED-TTL:P3D
REFRESH-INTERVAL:P3D
CALSCALE:GREGORIAN
BEGIN:VEVENT
DTSTART:20151020T120000Z
DTEND:20151020T140000Z
X-MICROSOFT-CDO-ALLDAYEVENT:FALSE
SUMMARY:Surviving the DOL Vice Grip: Practical Insight for Effectively Managing the Floo
DESCRIPTION:Federal and State labor regulators were busy in 2015. As a result\, employers doing business in New York face a host of new requirements\, with even more changes in the wind. Bond's Fall Breakfast Briefing is designed to discuss new and potential developments\, so that you can prepare and protect your organization
X-ALT-DESC;FMTTYPE=text/html:Federal and State labor regulators were busy in 2015. As a result\, employers doing business in New York face a host of new requirements\, with even more changes in the wind. Bond&#39\;s Fall Breakfast Briefing is designed to discuss new and potential developments\, so that you can prepare and protect your organization
LOCATION:Saratoga National Golf Club\, 458 Union Avenue\, Saratoga Springs\, NY 12866
UID:e.2254.12371
SEQUENCE:3
DTSTAMP:20260422T130507Z
URL:https://chamber.saratoga.org/events/details/surviving-the-dol-vice-grip-practical-insight-for-effectively-managing-the-floo-10-20-2015-12371
END:VEVENT

END:VCALENDAR
