BEGIN:VCALENDAR
VERSION:2.0
PRODID:-//ChamberMaster//Event Calendar 2.0//EN
METHOD:PUBLISH
X-PUBLISHED-TTL:P3D
REFRESH-INTERVAL:P3D
CALSCALE:GREGORIAN
BEGIN:VEVENT
DTSTART:20140824T123000Z
DTEND:20140824T140000Z
X-MICROSOFT-CDO-ALLDAYEVENT:FALSE
SUMMARY:Summer Sunday Stroll - 08/24/2014
DESCRIPTION:Historic Congress Park\, Saratoga Springs Preservation Foundation Walking Tour Sunday\, August 24                      10:30 AM Summer Stroll Historic Congress Park Front Steps of Canfield Casino\, Congress Park Join Charlie Kuenzel and Dave Patterson\, owners of Saratoga Tours LLC\, as they provide an educational and entertaining stroll through historic Congress Park. From the early springs and landscape architecture to the Canfield Casino and Spencer Trask Memorial\, the park is a wonderful spot to explore many facets of Saratoga history.
X-ALT-DESC;FMTTYPE=text/html:<p>Historic Congress Park\, Saratoga Springs Preservation Foundation Walking Tour </p><p style="margin-bottom: 0pt\;"><span style="font-size: 9pt\; line-height: 113%\; font-family: Calibri\; font-weight: bold\;">Sunday\, August 24&nbsp\;&nbsp\;&nbsp\; &nbsp\;&nbsp\;&nbsp\;&nbsp\;&nbsp\;&nbsp\;&nbsp\;&nbsp\;&nbsp\;&nbsp\;&nbsp\;&nbsp\;&nbsp\;&nbsp\;&nbsp\;&nbsp\;&nbsp\; 10:30 AM</span></p> <p style="margin-bottom: 0pt\;"><span style="font-size: 9pt\; line-height: 113%\; font-family: Calibri\; font-weight: bold\;">Summer Stroll</span></p> <p style="margin-bottom: 0pt\;"><span style="font-size: 9pt\; line-height: 113%\; font-family: Calibri\; font-weight: bold\;">Historic Congress Park</span></p> <p style="margin-bottom: 0pt\;"><span style="font-size: 9pt\; line-height: 113%\; font-family: Calibri\; font-style: italic\;">Front Steps of Canfield Casino\, Congress Park</span></p> <p style="margin-bottom: 0pt\;"><span style="font-size: 9pt\; line-height: 113%\; font-family: Calibri\;">Join Charlie Kuenzel and Dave Patterson\, owners of Saratoga Tours LLC\, as they provide an educational and entertaining stroll through historic Congress Park. From the early springs and landscape architecture to the Canfield Casino and Spencer Trask Memorial\, the park is a wonderful spot to explore many facets of Saratoga history.</span> </p> <p><span>&nbsp\;</span></p>
LOCATION:Tour will meet at: Front Steps of Canfield Casino\, Congress Park
UID:e.2254.3339
SEQUENCE:3
DTSTAMP:20260424T153634Z
URL:https://chamber.saratoga.org/events/details/summer-sunday-stroll-08-24-2014-08-24-2014-3339
END:VEVENT

END:VCALENDAR
