BEGIN:VCALENDAR
VERSION:2.0
PRODID:-//ChamberMaster//Event Calendar 2.0//EN
METHOD:PUBLISH
X-PUBLISHED-TTL:P3D
REFRESH-INTERVAL:P3D
CALSCALE:GREGORIAN
BEGIN:VEVENT
DTSTART:20140803T123000Z
DTEND:20140803T140000Z
X-MICROSOFT-CDO-ALLDAYEVENT:FALSE
SUMMARY:Summer Sunday Stroll - 08/03/2014
DESCRIPTION:The Good Life: North Broadway\, Saratoga Springs Preservation Foundation Walking Tour Sunday\, August 3                         10:30 AM Summer Stroll\, The Good Life: North Broadway  NW Corner of North Broadway & Van Dam Street Executive director of SSPF\,  Samantha Bosshart\, will lead  a tour of the grand Queen Annes along this famed corridor. This area features homes built by  Saratoga’s most prominent figures such as Lucy Skidmore Scribner\, Fred Cluett\, William B. Gage\, and  Senator Brackett.
X-ALT-DESC;FMTTYPE=text/html:<p>The Good Life: North Broadway\, Saratoga Springs Preservation Foundation Walking Tour </p><p style="margin-bottom: 0pt\;"><span style="font-size: 9pt\; line-height: 113%\; font-family: Calibri\; font-weight: bold\;">Sunday\, August 3&nbsp\;&nbsp\;&nbsp\;&nbsp\;&nbsp\;&nbsp\; &nbsp\;&nbsp\;&nbsp\;&nbsp\;&nbsp\;&nbsp\;&nbsp\;&nbsp\;&nbsp\;&nbsp\;&nbsp\;&nbsp\;&nbsp\;&nbsp\;&nbsp\;&nbsp\;&nbsp\; 10:30 AM</span></p> <p style="margin-bottom: 0pt\;"><span style="font-size: 9pt\; line-height: 113%\; font-family: Calibri\; font-weight: bold\;">Summer Stroll\, The Good Life: North Broadway</span></p> <p><span>&nbsp\;</span><span style="font-family: Calibri\; font-size: 9pt\; font-style: italic\; line-height: 113%\;">NW Corner of North Broadway &amp\; </span><span style="font-family: Calibri\; font-size: 9pt\; font-style: italic\; line-height: 113%\;">Van Dam Street</span><span> <p style="margin-bottom: 0pt\;"><span style="font-size: 9pt\; line-height: 113%\; font-family: Calibri\;">Executive director of SSPF\,&nbsp\; Samantha Bosshart\, will lead&nbsp\; a tour of the grand Queen Annes along this famed corridor. This area features homes built by&nbsp\; Saratoga’s most prominent figures such as Lucy Skidmore Scribner\, Fred Cluett\, William B. Gage\, and&nbsp\; Senator Brackett. </span></p> <p><span>&nbsp\;</span></p></span></p>
LOCATION:Tour will meet at: NW Corner of North Broadway & Van Dam Street
UID:e.2254.3334
SEQUENCE:3
DTSTAMP:20260424T172400Z
URL:https://chamber.saratoga.org/events/details/summer-sunday-stroll-08-03-2014-08-03-2014-3334
END:VEVENT

END:VCALENDAR
