BEGIN:VCALENDAR
VERSION:2.0
PRODID:-//ChamberMaster//Event Calendar 2.0//EN
METHOD:PUBLISH
X-PUBLISHED-TTL:P3D
REFRESH-INTERVAL:P3D
CALSCALE:GREGORIAN
BEGIN:VEVENT
DTSTART:20140720T123000Z
DTEND:20140720T140000Z
X-MICROSOFT-CDO-ALLDAYEVENT:FALSE
SUMMARY:Summer Sunday Stroll - 07/20/2014
DESCRIPTION:Saratoga’s Historic West Side\, Saratoga Springs Preservation Foundation Walking Tour Sunday\, July 20                            10:30 AM Summer Stroll Saratoga’s Historic West Side South Franklin Street\, (Gideon Putnam Cemetery Entrance) Stroll leader Susan Brooks will lead  guests through the restored historic West Side\, also known as Little Dublin. Tour-goers will learn about Saratoga’s Irish and Italian immigrants who helped shaped the history of this unique district.
X-ALT-DESC;FMTTYPE=text/html:<p>Saratoga’s Historic West Side\, Saratoga Springs Preservation Foundation Walking Tour </p><p style="margin-bottom: 0pt\;"><span style="font-size: 9pt\; line-height: 113%\; font-family: Calibri\; font-weight: bold\;">Sunday\, July 20&nbsp\;&nbsp\;&nbsp\;&nbsp\;&nbsp\;&nbsp\;&nbsp\;&nbsp\;&nbsp\; &nbsp\;&nbsp\;&nbsp\;&nbsp\;&nbsp\;&nbsp\;&nbsp\;&nbsp\;&nbsp\;&nbsp\;&nbsp\;&nbsp\;&nbsp\;&nbsp\;&nbsp\;&nbsp\;&nbsp\; 10:30 AM</span></p> <p style="margin-bottom: 0pt\;"><span style="font-size: 9pt\; line-height: 113%\; font-family: Calibri\; font-weight: bold\;">Summer Stroll</span></p> <p style="margin-bottom: 0pt\;"><span style="font-size: 9pt\; line-height: 113%\; font-family: Calibri\; font-weight: bold\;">Saratoga’s Historic West Side</span></p> <p style="margin-bottom: 0pt\;"><span style="font-size: 9pt\; line-height: 113%\; font-family: Calibri\; font-style: italic\;">South Franklin Street\,&nbsp\;</span><span style="font-family: Calibri\; font-size: 9pt\; font-style: italic\; line-height: 113%\;">(Gideon Putnam Cemetery Entrance)</span></p> <p style="margin-bottom: 0pt\;"><span style="font-size: 9pt\; line-height: 113%\; font-family: Calibri\;">Stroll leader Susan Brooks will lead&nbsp\; guests through the restored historic West Side\, also known as Little Dublin. Tour-goers will learn about Saratoga’s Irish and Italian immigrants who helped shaped the history of this unique district. </span></p> <p><span>&nbsp\;</span></p>
LOCATION:Tour will meet at: South Franklin Street (Gideon Putnam Cemetery Entrance)
UID:e.2254.3332
SEQUENCE:3
DTSTAMP:20260424T204838Z
URL:https://chamber.saratoga.org/events/details/summer-sunday-stroll-07-20-2014-07-20-2014-3332
END:VEVENT

END:VCALENDAR
