BEGIN:VCALENDAR
VERSION:2.0
PRODID:-//ChamberMaster//Event Calendar 2.0//EN
METHOD:PUBLISH
X-PUBLISHED-TTL:P3D
REFRESH-INTERVAL:P3D
CALSCALE:GREGORIAN
BEGIN:VEVENT
DTSTART:20140713T123000Z
DTEND:20140713T140000Z
X-MICROSOFT-CDO-ALLDAYEVENT:FALSE
SUMMARY:Summer Sunday Stroll - 07/13/2014
DESCRIPTION:Wealth  ">Sunday\, July 13                            10:30 AM Summer Stroll Wealth & Wellness: Franklin Square NW Corner of Division Street & Broadway Carrie Woerner\, former SSPF Executive Director\, will lead a tour through the historic Franklin Square area. This district is architecturally rich and home to some of the oldest private residences in Saratoga Springs. Franklin Square is a veritable showcase of American architectural history.
X-ALT-DESC;FMTTYPE=text/html:<p>Wealth & Wellness: Franklin Square\, Saratoga Springs Preservation Foundation Walking Tour </p><p style="margin-bottom: 0pt\;"><span style="font-size: 9pt\; line-height: 113%\; font-family: Calibri\; font-weight: bold\;">Sunday\, July 13&nbsp\;&nbsp\;&nbsp\;&nbsp\;&nbsp\;&nbsp\;&nbsp\;&nbsp\;&nbsp\; &nbsp\;&nbsp\;&nbsp\;&nbsp\;&nbsp\;&nbsp\;&nbsp\;&nbsp\;&nbsp\;&nbsp\;&nbsp\;&nbsp\;&nbsp\;&nbsp\;&nbsp\;&nbsp\;&nbsp\; 10:30 AM</span></p> <p style="margin-bottom: 0pt\;"><span style="font-size: 9pt\; line-height: 113%\; font-family: Calibri\; font-weight: bold\;">Summer Stroll</span></p> <p style="margin-bottom: 0pt\;"><span style="font-size: 9pt\; line-height: 113%\; font-family: Calibri\; font-weight: bold\;">Wealth &amp\; Wellness: Franklin Square</span></p> <p style="margin-bottom: 0pt\;"><span style="font-size: 9pt\; line-height: 113%\; font-family: Calibri\; font-style: italic\;">NW Corner of Division Street&nbsp\;</span><span style="font-family: Calibri\; font-size: 9pt\; font-style: italic\; line-height: 113%\;">&amp\; Broadway</span></p> <p style="margin-bottom: 0pt\;"><span style="font-size: 9pt\; line-height: 113%\; font-family: Calibri\;">Carrie Woerner\, former SSPF Executive Director\, will lead a tour through the historic Franklin Square area. This district is architecturally rich and home to some of the oldest private residences in Saratoga Springs. Franklin Square is a veritable showcase of American architectural history.</span> </p> <p><span>&nbsp\;</span></p>
LOCATION:Tour will meet at: NW Corner of Division Street & Broadway
UID:e.2254.3330
SEQUENCE:3
DTSTAMP:20260424T192810Z
URL:https://chamber.saratoga.org/events/details/summer-sunday-stroll-07-13-2014-07-13-2014-3330
END:VEVENT

END:VCALENDAR
