BEGIN:VCALENDAR
VERSION:2.0
PRODID:-//ChamberMaster//Event Calendar 2.0//EN
METHOD:PUBLISH
X-PUBLISHED-TTL:P3D
REFRESH-INTERVAL:P3D
CALSCALE:GREGORIAN
BEGIN:VEVENT
DTSTART:20150621T143000Z
DTEND:20150621T160000Z
X-MICROSOFT-CDO-ALLDAYEVENT:FALSE
SUMMARY:SUMMER STROLL: THE GOOD LIFE: NORTH BROADWAY
DESCRIPTION:Executive Director of SSPF\, Samantha Bosshart\, will lead a tour of the grand Queen Anne's along this famed corridor. Saratoga Springs Preservation Foundation tours are rain or shine. Allow 90 minutes. Requires walking & standing\, and covers varied terrain. Pre-registration preferred.
X-ALT-DESC;FMTTYPE=text/html:Executive Director of SSPF\, Samantha Bosshart\, will lead a tour of the grand Queen Anne&#39\;s along this famed corridor. Saratoga Springs Preservation Foundation tours are rain or shine. Allow 90 minutes. Requires walking &amp\; standing\, and covers varied terrain. Pre-registration preferred.
LOCATION:Northwest Corner of North Broadway & Van Dam Street\, Saratoga Springs\, NY
UID:e.2254.9626
SEQUENCE:3
DTSTAMP:20260423T072936Z
URL:https://chamber.saratoga.org/events/details/summer-stroll-the-good-life-north-broadway-06-21-2015-9626
END:VEVENT

END:VCALENDAR
