BEGIN:VCALENDAR
VERSION:2.0
PRODID:-//ChamberMaster//Event Calendar 2.0//EN
METHOD:PUBLISH
X-PUBLISHED-TTL:P3D
REFRESH-INTERVAL:P3D
CALSCALE:GREGORIAN
BEGIN:VEVENT
DTSTART:20150830T143000Z
DTEND:20150830T160000Z
X-MICROSOFT-CDO-ALLDAYEVENT:FALSE
SUMMARY:SUMMER STROLL: POST TIME!
DESCRIPTION:Georgia Horner explores the Saratoga Race Course area along Union Avenue featuring the Reading Rooms\, National Museum of Racing\, Oklahoma Track\, and Fasig-Tipton Humphrey S. Finney Sales Pavilion. Saratoga Springs Preservation Foundation tours are rain or shine. Allow 90 minutes. Requires walking & standing and covers varied terrain. Pre-registration preferred. Tour meets: Southeast Corner of Nelson & Union Avenue
X-ALT-DESC;FMTTYPE=text/html:Georgia Horner explores the Saratoga Race Course area along Union Avenue featuring the Reading Rooms\, National Museum of Racing\, Oklahoma Track\, and Fasig-Tipton Humphrey S. Finney Sales Pavilion. Saratoga Springs Preservation Foundation tours are rain or shine. Allow 90 minutes. Requires walking &amp\; standing and covers varied terrain. Pre-registration preferred. Tour meets: Southeast Corner of Nelson &amp\; Union Avenue
LOCATION:Southeast Corner of Nelson & Union Avenue
UID:e.2254.9997
SEQUENCE:3
DTSTAMP:20260423T021855Z
URL:https://chamber.saratoga.org/events/details/summer-stroll-post-time-08-30-2015-9997
END:VEVENT

END:VCALENDAR
