BEGIN:VCALENDAR
VERSION:2.0
PRODID:-//ChamberMaster//Event Calendar 2.0//EN
METHOD:PUBLISH
X-PUBLISHED-TTL:P3D
REFRESH-INTERVAL:P3D
CALSCALE:GREGORIAN
BEGIN:VEVENT
DTSTART:20150726T143000Z
DTEND:20150726T160000Z
X-MICROSOFT-CDO-ALLDAYEVENT:FALSE
SUMMARY:SUMMER STROLL: HISTORIC FIFTH & MADISON AVENUES
DESCRIPTION:Join Jason Scott to learn about these grand residential streets lined with elegant Victorian and Craftsman houses. Saratoga Springs Preservation Foundation tours are rain or shine. Allow 90 minutes. Requires walking & standing and covers varied terrain. Pre-registration preferred. Tour meets: Northeast Corner of Nelson & Fifth Avenues
X-ALT-DESC;FMTTYPE=text/html:Join Jason Scott to learn about these grand residential streets lined with elegant Victorian and Craftsman houses. Saratoga Springs Preservation Foundation tours are rain or shine. Allow 90 minutes. Requires walking &amp\; standing and covers varied terrain. Pre-registration preferred. Tour meets: Northeast Corner of Nelson &amp\; Fifth Avenues
LOCATION:Northeast Corner of Nelson & Fifth Avenues
UID:e.2254.9987
SEQUENCE:3
DTSTAMP:20260423T040851Z
URL:https://chamber.saratoga.org/events/details/summer-stroll-historic-fifth-madison-avenues-07-26-2015-9987
END:VEVENT

END:VCALENDAR
