BEGIN:VCALENDAR
VERSION:2.0
PRODID:-//ChamberMaster//Event Calendar 2.0//EN
METHOD:PUBLISH
X-PUBLISHED-TTL:P3D
REFRESH-INTERVAL:P3D
CALSCALE:GREGORIAN
BEGIN:VEVENT
DTSTART:20150512T211500Z
DTEND:20150630T224500Z
X-MICROSOFT-CDO-ALLDAYEVENT:FALSE
SUMMARY:Summer - Saratoga Stress Reduction Program
DESCRIPTION:This eight-week course (3/17/15-5/5/15) provides instruction in formal mindfulness meditation methods including a body scan\, gentle yoga\, sitting meditation and walking meditation. These practices offer students a means of self-regulation and encourage the cultivation of greater awareness. Students learn to reduce their particular symptoms of psychological and somatic distress as well as to respond to challenges with less reactivity and greater clarity. The course also provides instruction in informal mindfulness meditation practices such as being in nature and eating with awareness. Midway through the course\, students learn about the physiology of stress and how it relates to their individual stress reactivity patterns. Using the latest scientific research\, we explore how the act of mindful noticing activates innate internal resources that can change our perception of daily events\, including stressful ones. This altered appraisal allows students to use a broader range of both internal and external responses so that they need not remain locked in stress patterns. Please visit our website\, oneroofsaratoga.com for details\, including fees and insurance and online registration forms\, and contact Dr. Selma Nemer at 581-3180 ext 307 with questions or for more information.
X-ALT-DESC;FMTTYPE=text/html:This eight-week course (3/17/15-5/5/15) provides instruction in formal mindfulness meditation methods including a body scan\, gentle yoga\, sitting meditation and walking meditation. These practices offer students a means of self-regulation and encourage the cultivation of greater awareness. Students learn to reduce their particular symptoms of psychological and somatic distress as well as to respond to challenges with less reactivity and greater clarity. The course also provides instruction in informal mindfulness meditation practices such as being in nature and eating with awareness. Midway through the course\, students learn about the physiology of stress and how it relates to their individual stress reactivity patterns. Using the latest scientific research\, we explore how the act of mindful noticing activates innate internal resources that can change our perception of daily events\, including stressful ones. This altered appraisal allows students to use a broader range of both internal and external responses so that they need not remain locked in stress patterns. Please visit our website\, oneroofsaratoga.com for details\, including fees and insurance and online registration forms\, and contact Dr. Selma Nemer at 581-3180 ext 307 with questions or for more information.
LOCATION:ONE BIG ROOF\, 433 Broadway\, Suite 302 (Above Putnam Market)
UID:e.2254.8367
SEQUENCE:3
DTSTAMP:20260423T072108Z
URL:https://chamber.saratoga.org/events/details/summer-saratoga-stress-reduction-program-05-12-2015-8367
END:VEVENT

END:VCALENDAR
