BEGIN:VCALENDAR
VERSION:2.0
PRODID:-//ChamberMaster//Event Calendar 2.0//EN
METHOD:PUBLISH
X-PUBLISHED-TTL:P3D
REFRESH-INTERVAL:P3D
CALSCALE:GREGORIAN
BEGIN:VEVENT
DTSTART:20150615T220000Z
DTEND:20150616T000000Z
X-MICROSOFT-CDO-ALLDAYEVENT:FALSE
SUMMARY:Summer Patio Parties at Pasta Pane
DESCRIPTION:Summer Patio Parties at Pasta Pane Join us Monday evenings in June and July from 6:00pm to 8:00pm at Pasta Pane for our Summer Patio Party Series. Enjoy Happy Hour drink prices\, $5 Red and White Sangria\, and live music outside on our beautiful patio.  June 15\, 22\, 29  July 6\, 20\, 27  Happy Hour Prices:  6:00pm - 8:00pm  Live music  $5 Red & White Sangria
X-ALT-DESC;FMTTYPE=text/html:Summer Patio Parties at Pasta Pane Join us Monday evenings in June and July from 6:00pm to 8:00pm at Pasta Pane for our Summer Patio Party Series. Enjoy Happy Hour drink prices\, $5 Red and White Sangria\, and live music outside on our beautiful patio.&nbsp\; June 15\, 22\, 29&nbsp\; July 6\, 20\, 27&nbsp\; Happy Hour Prices:&nbsp\; 6:00pm - 8:00pm&nbsp\; Live music&nbsp\; $5 Red &amp\; White Sangria
LOCATION:Pasta Pane 18 Park Ave Clifton Park\, NY 12065
UID:e.2254.8744
SEQUENCE:3
DTSTAMP:20260423T073932Z
URL:https://chamber.saratoga.org/events/details/summer-patio-parties-at-pasta-pane-06-15-2015-8744
END:VEVENT

END:VCALENDAR
