BEGIN:VCALENDAR
VERSION:2.0
PRODID:-//ChamberMaster//Event Calendar 2.0//EN
METHOD:PUBLISH
X-PUBLISHED-TTL:P3D
REFRESH-INTERVAL:P3D
CALSCALE:GREGORIAN
BEGIN:VEVENT
DTSTART:20140806T200000Z
DTEND:20140827T210000Z
X-MICROSOFT-CDO-ALLDAYEVENT:FALSE
SUMMARY:Summer in the Park Series - 08/06/2014
DESCRIPTION:A fun activity followed by free Stewart's ice cream and playground time. We have certified educators and local professionals who volunteer to run this educational series. Lots of fun and interactive. Who can resist free Stewart's ice cream?  Different programs each week
X-ALT-DESC;FMTTYPE=text/html:<p>A fun activity followed by free Stewart's ice cream and playground time. </p><p>We have certified educators and local professionals who volunteer to run this educational series. Lots of fun and interactive. Who can resist free Stewart's ice cream? &nbsp\;Different programs each week</p>
LOCATION:Kelley Park
UID:e.2254.3505
SEQUENCE:3
DTSTAMP:20260424T140233Z
URL:https://chamber.saratoga.org/events/details/summer-in-the-park-series-08-06-2014-08-06-2014-3505
END:VEVENT

END:VCALENDAR
