BEGIN:VCALENDAR
VERSION:2.0
PRODID:-//ChamberMaster//Event Calendar 2.0//EN
METHOD:PUBLISH
X-PUBLISHED-TTL:P3D
REFRESH-INTERVAL:P3D
CALSCALE:GREGORIAN
BEGIN:VEVENT
DTSTART:20160720T213000Z
DTEND:20160720T223000Z
X-MICROSOFT-CDO-ALLDAYEVENT:FALSE
SUMMARY:SUMMER COOLSCULPTING EVENT - FREEZE YOUR FAT!
DESCRIPTION:Join US...\n\non Wednesday\, July 20th at 5:30pm \n\n Find out how you can reshape your body with CoolSculpting.\n\nOffering CoolSculpting for Chins. Learn more during our event.\n\n*Offering 25% Off PLUS Special Offers (Call 786-7004 for details)\n\n*Meet our team of CoolSculpt Specialists.\n\n*Our CoolSculpt Specialists\, are trained\n\nunder the direction of\n\nDr. Alain Polynice ~\n\nThe Breast & Body Specialist.\n\n*No Surgery\, No Downtime\, No Needles....\n\n*Evening and Weekend appointments available
X-ALT-DESC;FMTTYPE=text/html:<div style="text-align:center"><span style="color:#0000FF"><span style="font-size:22px"><strong><span style="font-family:helvetica\,arial\,sans-serif">Join US...<br />\non Wednesday\, July 20th at 5:30pm </span><br />\n<span style="font-family:helvetica\,arial\,sans-serif">&nbsp\;Find out how you can reshape your body with CoolSculpting.</span></strong></span></span></div>\n\n<div style="text-align:center"><span style="color:#0000FF"><span style="font-size:18px"><span style="font-family:helvetica\,arial\,sans-serif">Offering CoolSculpting for Chins. Learn more during our event.</span><br />\n<span style="font-family:helvetica\,arial\,sans-serif">*Offering 25% Off PLUS Special Offers (Call 786-7004 for details)</span><br />\n<span style="font-family:helvetica\,arial\,sans-serif">*Meet our team of CoolSculpt Specialists.</span><br />\n<span style="font-family:helvetica\,arial\,sans-serif">*Our CoolSculpt Specialists\, are trained<br />\nunder the direction of<br />\nDr. Alain Polynice ~<br />\nThe Breast &amp\; Body Specialist.</span><br />\n<span style="font-family:helvetica\,arial\,sans-serif">*No Surgery\, No Downtime\, No Needles....</span><br />\n<span style="font-family:helvetica\,arial\,sans-serif">*Evening and Weekend appointments available</span></span></span></div>\n
LOCATION:1072 TROY SHCENECTADY RD LATHAM\, NY 12110 518 786-7004
UID:e.2254.17148
SEQUENCE:3
DTSTAMP:20260421T050740Z
URL:https://chamber.saratoga.org/events/details/summer-coolsculpting-event-freeze-your-fat-07-20-2016-17148
END:VEVENT

END:VCALENDAR
