BEGIN:VCALENDAR
VERSION:2.0
PRODID:-//ChamberMaster//Event Calendar 2.0//EN
METHOD:PUBLISH
X-PUBLISHED-TTL:P3D
REFRESH-INTERVAL:P3D
CALSCALE:GREGORIAN
BEGIN:VEVENT
DTSTART:20140721T120000Z
DTEND:20140801T180000Z
X-MICROSOFT-CDO-ALLDAYEVENT:FALSE
SUMMARY:Summer Art Faculty Exhibition - 07/21/2014
DESCRIPTION:Summer Art Faculty ExhibitionSummer Art Faculty ExhibitionJuly 21-August 1\, 2014Monday-Friday 10 a.m.-4 p.m.Schick Art Gallery For more information call 518-580-5049
X-ALT-DESC;FMTTYPE=text/html:<p>Summer Art Faculty Exhibition</p><p>Summer Art Faculty Exhibition</p><p><span style="font-size: 12pt\; font-family: Times New Roman\,serif\;">July 21-August 1\, 2014</span></p><p>Monday-Friday 10 a.m.-4 p.m.</p><p>Schick Art Gallery </p><p><span style="font-size: 12pt\; font-family: Times New Roman\,serif\;">For more information call 518-580-5049</span></p>
LOCATION:Schick Art Gallery
UID:e.2254.3375
SEQUENCE:3
DTSTAMP:20260424T153804Z
URL:https://chamber.saratoga.org/events/details/summer-art-faculty-exhibition-07-21-2014-07-21-2014-3375
END:VEVENT

END:VCALENDAR
