BEGIN:VCALENDAR
VERSION:2.0
PRODID:-//ChamberMaster//Event Calendar 2.0//EN
METHOD:PUBLISH
X-PUBLISHED-TTL:P3D
REFRESH-INTERVAL:P3D
CALSCALE:GREGORIAN
BEGIN:VEVENT
DTSTART:20160726T140000Z
DTEND:20160729T163000Z
X-MICROSOFT-CDO-ALLDAYEVENT:FALSE
SUMMARY:Summer Art Camp: "Printmaking"
DESCRIPTION:Learn how to create art like the master printmakers\, Rembrandt and D rer. We will take queues from the greats but also focus on different printmaking techniques including woodcuts\, linoleum block printing\, mono printing\, and even screen printing. Family will be invited to the Art Show on the last day to enjoy all of our hard work! (School vacation fun for ages 6 to 12)
X-ALT-DESC;FMTTYPE=text/html:Learn how to create art like the master printmakers\, Rembrandt and D&uuml\;rer. We will take queues from the greats but also focus on different printmaking techniques including woodcuts\, linoleum block printing\, mono printing\, and even screen printing. Family will be invited to the Art Show on the last day to enjoy all of our hard work! (School vacation fun for ages 6 to 12)
LOCATION:The Hyde Collection 161 Warren St.\, Glens Falls\, NY 12801
UID:e.2254.16476
SEQUENCE:3
DTSTAMP:20260421T080349Z
URL:https://chamber.saratoga.org/events/details/summer-art-camp-printmaking-07-26-2016-16476
END:VEVENT

END:VCALENDAR
