BEGIN:VCALENDAR
VERSION:2.0
PRODID:-//ChamberMaster//Event Calendar 2.0//EN
METHOD:PUBLISH
X-PUBLISHED-TTL:P3D
REFRESH-INTERVAL:P3D
CALSCALE:GREGORIAN
BEGIN:VEVENT
DTSTART:20140814T190000Z
DTEND:20140814T200000Z
X-MICROSOFT-CDO-ALLDAYEVENT:FALSE
SUMMARY:Summer Afternoon Stroll - 08/14/2014
DESCRIPTION:Pups for Preservation! Saratoga Springs Preservation Foundation Walking Tour Thursday\, August 14                    5:00 PM Afternoon Stroll Pups for Preservation! NW Corner of N. Broadway & 4th Street Enjoy an hour-long tour of historic North Broadway with your furry friend! Dog treats & water will be provided along the route. We guarantee your pup’s tail will be wagging by the end of the stroll! $5 per person. Dogs walk free! Pre-registration is requested by August 13th as space is limited.
X-ALT-DESC;FMTTYPE=text/html:<p>Pups for Preservation! Saratoga Springs Preservation Foundation Walking Tour </p><p style="margin-bottom: 0pt\;"><span style="font-size: 9pt\; line-height: 113%\; font-family: Calibri\; font-weight: bold\;">Thursday\, August 14&nbsp\; &nbsp\;&nbsp\;&nbsp\;&nbsp\;&nbsp\;&nbsp\;&nbsp\;&nbsp\;&nbsp\;&nbsp\;&nbsp\;&nbsp\;&nbsp\;&nbsp\;&nbsp\;&nbsp\;&nbsp\; 5:00 PM</span></p> <p style="margin-bottom: 0pt\;"><span style="font-size: 9pt\; line-height: 113%\; font-family: Calibri\; font-weight: bold\;">Afternoon Stroll</span></p> <p style="margin-bottom: 0pt\;"><span style="font-size: 9pt\; line-height: 113%\; font-family: Calibri\; font-weight: bold\;">Pups for Preservation!</span></p> <p style="margin-bottom: 0pt\;"><span style="font-size: 9pt\; line-height: 113%\; font-family: Calibri\; font-style: italic\;">NW Corner of N. Broadway &amp\; 4th Street</span></p> <p style="margin-bottom: 0pt\;"><span style="font-size: 9pt\; line-height: 113%\; font-family: Calibri\;">Enjoy an hour-long tour of historic North Broadway with your furry friend! Dog treats &amp\; water will be provided along the route. We guarantee your pup’s tail will be wagging by the end of the stroll!</span></p> <p style="margin-bottom: 0pt\;"><span style="font-size: 9pt\; line-height: 113%\; font-family: Calibri\; font-weight: bold\;">$5 per person. Dogs walk free!</span></p> <p style="margin-bottom: 0pt\;"><span style="font-size: 9pt\; line-height: 113%\; font-family: Calibri\; font-style: italic\; font-weight: bold\;">Pre-registration is requested by August 13th as space is limited.</span></p> <p><span>&nbsp\;</span></p>
LOCATION:Tour will meet at: NW Corner of N. Broadway & 4th Street
UID:e.2254.3336
SEQUENCE:3
DTSTAMP:20260424T153505Z
URL:https://chamber.saratoga.org/events/details/summer-afternoon-stroll-08-14-2014-08-14-2014-3336
END:VEVENT

END:VCALENDAR
