BEGIN:VCALENDAR
VERSION:2.0
PRODID:-//ChamberMaster//Event Calendar 2.0//EN
METHOD:PUBLISH
X-PUBLISHED-TTL:P3D
REFRESH-INTERVAL:P3D
CALSCALE:GREGORIAN
BEGIN:VEVENT
DTSTART:20150702T230000Z
DTEND:20150703T010000Z
X-MICROSOFT-CDO-ALLDAYEVENT:FALSE
SUMMARY:Student Theater Showing
DESCRIPTION:Student Theater Showing By participants of the SITI Company workshop. 7 p.m.-Black Box\, Bernhard Theater For more information call 518-580-5596
X-ALT-DESC;FMTTYPE=text/html:Student Theater Showing By participants of the SITI Company workshop. 7 p.m.-Black Box\, Bernhard Theater For more information call 518-580-5596
LOCATION:Skidmore College\, Bernhard Theater 815 N Broadway Saratoga Springs\, NY 12866
UID:e.2254.9684
SEQUENCE:3
DTSTAMP:20260423T040509Z
URL:https://chamber.saratoga.org/events/details/student-theater-showing-07-02-2015-9684
END:VEVENT

END:VCALENDAR
