BEGIN:VCALENDAR
VERSION:2.0
PRODID:-//ChamberMaster//Event Calendar 2.0//EN
METHOD:PUBLISH
X-PUBLISHED-TTL:P3D
REFRESH-INTERVAL:P3D
CALSCALE:GREGORIAN
BEGIN:VEVENT
DTSTART:20150308T180000Z
DTEND:20150308T200000Z
X-MICROSOFT-CDO-ALLDAYEVENT:FALSE
SUMMARY:String Festival Ensemble Concert
DESCRIPTION:This festival finale will include all participating quartets\, with Skidmore faculty and the American String Quartet joining onstage for a group performance.
X-ALT-DESC;FMTTYPE=text/html:This festival finale will include all participating quartets\, with Skidmore faculty and the American String Quartet joining onstage for a group performance.
LOCATION:Arthur Zankel Music Center\, Ladd Concert Hall Skidmore College 815 N Broadway Saratoga Springs\, NY 12866
UID:e.2254.6140
SEQUENCE:3
DTSTAMP:20260423T214115Z
URL:https://chamber.saratoga.org/events/details/string-festival-ensemble-concert-03-08-2015-6140
END:VEVENT

END:VCALENDAR
