BEGIN:VCALENDAR
VERSION:2.0
PRODID:-//ChamberMaster//Event Calendar 2.0//EN
METHOD:PUBLISH
X-PUBLISHED-TTL:P3D
REFRESH-INTERVAL:P3D
CALSCALE:GREGORIAN
BEGIN:VEVENT
DTSTART:20161109T213000Z
DTEND:20161110T010000Z
X-MICROSOFT-CDO-ALLDAYEVENT:FALSE
SUMMARY:STEM Summit Professional Development Workshop for Educators
DESCRIPTION:Join miSci\, the Challenger Learning Center\, the Dudley Observatory\, Fox Vision Development Center\, New York State Network for Youth Success\, the San Francisco Exploratorium\, and WMHT for a STEM Professional Development workshop for all educators. Attend workshops tailored towards the grade level you teach and receive a certificate for three hours of professional development credit.
X-ALT-DESC;FMTTYPE=text/html:Join miSci\, the Challenger Learning Center\, the Dudley Observatory\, Fox Vision Development Center\, New York State Network for Youth Success\, the San Francisco Exploratorium\, and WMHT for a STEM Professional Development workshop for all educators. Attend workshops tailored towards the grade level you teach and receive a certificate for three hours of professional development credit.
LOCATION:miSci 15 Nott Terrace Heights Schenectady\,NY 12308
UID:e.2254.20817
SEQUENCE:3
DTSTAMP:20260420T200456Z
URL:https://chamber.saratoga.org/events/details/stem-summit-professional-development-workshop-for-educators-20817
END:VEVENT

END:VCALENDAR
