BEGIN:VCALENDAR
VERSION:2.0
PRODID:-//ChamberMaster//Event Calendar 2.0//EN
METHOD:PUBLISH
X-PUBLISHED-TTL:P3D
REFRESH-INTERVAL:P3D
CALSCALE:GREGORIAN
BEGIN:VEVENT
DTSTART:20160330T213000Z
DTEND:20160330T230000Z
X-MICROSOFT-CDO-ALLDAYEVENT:FALSE
SUMMARY:StartUp Something Saratoga
DESCRIPTION:Open House Event for Big Brothers Big Sisters of the Capital Region's new initiative\, StartUp Something Saratoga. This exciting program focuses on engaging youth in STEM and STEAM based professions as well as entrepreneurship. Small businesses and startup businesses are encouraged to attend the Open House to learn more about how they can get involved.
X-ALT-DESC;FMTTYPE=text/html:Open House Event for Big Brothers Big Sisters of the Capital Region&#39\;s new initiative\, StartUp Something Saratoga. This exciting program focuses on engaging youth in STEM and STEAM based professions as well as entrepreneurship. Small businesses and startup businesses are encouraged to attend the Open House to learn more about how they can get involved.
LOCATION:The Frances Young Tang Teaching Museum and Art Gallery at Skidmore College
UID:e.2254.14893
SEQUENCE:3
DTSTAMP:20260422T003829Z
URL:https://chamber.saratoga.org/events/details/startup-something-saratoga-03-30-2016-14893
END:VEVENT

END:VCALENDAR
