BEGIN:VCALENDAR
VERSION:2.0
PRODID:-//ChamberMaster//Event Calendar 2.0//EN
METHOD:PUBLISH
X-PUBLISHED-TTL:P3D
REFRESH-INTERVAL:P3D
CALSCALE:GREGORIAN
BEGIN:VEVENT
DTSTART:20151014T213000Z
DTEND:20151015T000000Z
X-MICROSOFT-CDO-ALLDAYEVENT:FALSE
SUMMARY:Startup Saratoga
DESCRIPTION:Pre-registration is encouraged but walk-ins are certainly welcome. Pre-registration will help us to be sure we have enough delicious\, fun and famous Saratoga specialty food items for everyone to enjoy! Oh\, and enough beer and water too. \n\n\n\nNetworking Event 5:30-6:30   hosted by Saratoga TechOUT\n\nCompany Pitches 6:30-7:30   hosted by Startup Tech Valley\n\nNetworking Continues 7:30-8:00\n\n\n\nFor more details: http://startuptechvalley.org/events/startup-saratoga/
X-ALT-DESC;FMTTYPE=text/html:<p class="lead" style="margin:0in\;margin-bottom:.0001pt\;line-height:20.25pt"><span class="apple-converted-space"><span style="font-size:10.5pt\;font-family:&quot\;Helvetica&quot\;\,sans-serif\;\ncolor:#595959">Pre-registration is encouraged but walk-ins are certainly welcome. Pre-registration will help us to be sure we have enough delicious\, fun and famous Saratoga specialty food items for everyone to enjoy! Oh\, and enough beer and water too.&nbsp\;</span></span><span style="font-size:15.0pt"><o:p></o:p></span><br />\n<br />\n<strong><span style="color:#595959\;"><span style="font-family:helvetica\,sans-serif\;"><span style="font-size:10.5pt\;">Networking Event 5:30-6:30 &ndash\; hosted by&nbsp\;<a href="http://saratogatechout.com/" target="_blank"><span style="color:#4183C4\;">Saratoga TechOUT</span></a><br />\nCompany Pitches 6:30-7:30 &ndash\; hosted by&nbsp\;<a href="http://startuptechvalley.org/" target="_blank"><span style="color:#4183C4\;">Startup Tech Valley</span></a><br />\nNetworking Continues 7:30-8:00</span></span></span></strong><br />\n<br />\n<b><span style="font-size:10.5pt\;font-family:&quot\;Helvetica&quot\;\,sans-serif\;color:#595959">For more details: <a href="http://startuptechvalley.org/events/startup-saratoga/">http://startuptechvalley.org/events/startup-saratoga/</a><o:p></o:p></span></b></p>\n\n<p class="lead" style="margin:0in\;margin-bottom:.0001pt\;line-height:20.25pt"><span style="font-size:15.0pt"><o:p></o:p></span></p>\n
LOCATION:Universal Preservation Hall 25 Washington Street Saratoga Springs
UID:e.2254.12385
SEQUENCE:3
DTSTAMP:20260422T130339Z
URL:https://chamber.saratoga.org/events/details/startup-saratoga-10-14-2015-12385
END:VEVENT

END:VCALENDAR
