BEGIN:VCALENDAR
VERSION:2.0
PRODID:-//ChamberMaster//Event Calendar 2.0//EN
METHOD:PUBLISH
X-PUBLISHED-TTL:P3D
REFRESH-INTERVAL:P3D
CALSCALE:GREGORIAN
BEGIN:VEVENT
DTSTART:20160923T230000Z
DTEND:20160924T010000Z
X-MICROSOFT-CDO-ALLDAYEVENT:FALSE
SUMMARY:Star Party
DESCRIPTION:Join the Wilton Wildlife Preserve & Park and our friends from Albany Area Amateur Astronomers\, Inc. and the Southern Adirondack Astronomy Club as we study the night sky in all of its beauty. This date has good viewing of Saturn through the telescopes that will be set up by the Astronomy club members. We will also be learning some of the constellations in our night sky. Please bring a blanket to lay on the ground and dress appropriately for the weather\, it gets chilly at night! The rain date for this event is Saturday\, September 24 at 7:15 pm in the same location. Preregistration is required by Wednesday\, September 21.
X-ALT-DESC;FMTTYPE=text/html:Join the Wilton Wildlife Preserve &amp\; Park and our friends from Albany Area Amateur Astronomers\, Inc. and the Southern Adirondack Astronomy Club as we study the night sky in all of its beauty. This date has good viewing of Saturn through the telescopes that will be set up by the Astronomy club members. We will also be learning some of the constellations in our night sky. Please bring a blanket to lay on the ground and dress appropriately for the weather\, it gets chilly at night! The rain date for this event is Saturday\, September 24 at 7:15 pm in the same location. Preregistration is required by Wednesday\, September 21.
LOCATION:Wilton Wildlife Preserve and Park at Camp Saratoga\, Parking Lot 1
UID:e.2254.19529
SEQUENCE:3
DTSTAMP:20260421T002124Z
URL:https://chamber.saratoga.org/events/details/star-party-19529
END:VEVENT

END:VCALENDAR
