BEGIN:VCALENDAR
VERSION:2.0
PRODID:-//ChamberMaster//Event Calendar 2.0//EN
METHOD:PUBLISH
X-PUBLISHED-TTL:P3D
REFRESH-INTERVAL:P3D
CALSCALE:GREGORIAN
BEGIN:VEVENT
DTSTART:20160624T140000Z
DTEND:20160624T160000Z
X-MICROSOFT-CDO-ALLDAYEVENT:FALSE
SUMMARY:SRYMCA's Outdoor Center Grand Opening
DESCRIPTION:Celebrate the Grand Opening of the Saratoga Regional YMCA's Outdoor Center at the Saratoga Springs Branch\, located at 290 West Ave. There will be a ribbon cutting ceremony at 10:00 am with community leaders. Following the ceremony\, light refreshments will be available for guests. With all of the new recreational features of the Outdoor Center\, the possibilities are endless. The centerpiece of the space is a 4\,340-square-foot outdoor pavilion designed to serve as an open air community space and classroom for campers. There will be a baseball/softball field\, archery program area\, tetherball and four square courts\, gaga pits\, high and low ropes course\, zipline\, traverse wall\, climbing tower\, and more! This addition will provide a multitude of diverse activities for all ages and allow the SRYMCA to expand programs such as summer camp and archery. For more information regarding the Outdoor Center\, please visit www.srymca.org or contact Kelly Armer at 583-9622\, ext.106.
X-ALT-DESC;FMTTYPE=text/html:Celebrate the Grand Opening of the Saratoga Regional YMCA&#39\;s Outdoor Center at the Saratoga Springs Branch\, located at 290 West Ave. There will be a ribbon cutting ceremony at 10:00 am with community leaders. Following the ceremony\, light refreshments will be available for guests. With all of the new recreational features of the Outdoor Center\, the possibilities are endless. The centerpiece of the space is a 4\,340-square-foot outdoor pavilion designed to serve as an open air community space and classroom for campers. There will be a baseball/softball field\, archery program area\, tetherball and four square courts\, gaga pits\, high and low ropes course\, zipline\, traverse wall\, climbing tower\, and more! This addition will provide a multitude of diverse activities for all ages and allow the SRYMCA to expand programs such as summer camp and archery. For more information regarding the Outdoor Center\, please visit www.srymca.org or contact Kelly Armer at 583-9622\, ext.106.
LOCATION:Saratoga Springs Branch\, 290 West Ave
UID:e.2254.16935
SEQUENCE:3
DTSTAMP:20260421T080704Z
URL:https://chamber.saratoga.org/events/details/srymca-s-outdoor-center-grand-opening-06-24-2016-16935
END:VEVENT

END:VCALENDAR
