BEGIN:VCALENDAR
VERSION:2.0
PRODID:-//ChamberMaster//Event Calendar 2.0//EN
METHOD:PUBLISH
X-PUBLISHED-TTL:P3D
REFRESH-INTERVAL:P3D
CALSCALE:GREGORIAN
BEGIN:VEVENT
DTSTART:20150523T143000Z
DTEND:20150523T153000Z
X-MICROSOFT-CDO-ALLDAYEVENT:FALSE
SUMMARY:Spring Wildflower Walk
DESCRIPTION:Enjoy a relaxing walk around the park while learning about the medicinal qualities\, legends\, and folk lores surrounding the wildflowers that grow here. All ages welcome. Registration is required. Fee is $3 per person or $5 per family. Please call 518-584-2000 Ext. 150 to register.
X-ALT-DESC;FMTTYPE=text/html:Enjoy a relaxing walk around the park while learning about the medicinal qualities\, legends\, and folk lores surrounding the wildflowers that grow here. All ages welcome. Registration is required. Fee is $3 per person or $5 per family. Please call 518-584-2000 Ext. 150 to register.
LOCATION:Saratoga Spa State Park
UID:e.2254.8331
SEQUENCE:3
DTSTAMP:20260423T212141Z
URL:https://chamber.saratoga.org/events/details/spring-wildflower-walk-05-23-2015-8331
END:VEVENT

END:VCALENDAR
