BEGIN:VCALENDAR
VERSION:2.0
PRODID:-//ChamberMaster//Event Calendar 2.0//EN
METHOD:PUBLISH
X-PUBLISHED-TTL:P3D
REFRESH-INTERVAL:P3D
CALSCALE:GREGORIAN
BEGIN:VEVENT
DTSTART:20150429T143000Z
DTEND:20150429T160000Z
X-MICROSOFT-CDO-ALLDAYEVENT:FALSE
SUMMARY:Spring Scavenger Hunt
DESCRIPTION:Search for signs of spring at the park! When you have collected all of your nature items\, we will make a beautiful nature sun catcher. All ages welcome. Program fee is $3 per child or $5 per family. Please call (518) 584-2000 Ext. 116 to register.
X-ALT-DESC;FMTTYPE=text/html:Search for signs of spring at the park! When you have collected all of your nature items\, we will make a beautiful nature sun catcher. All ages welcome. Program fee is $3 per child or $5 per family. Please call (518) 584-2000 Ext. 116 to register.
LOCATION:Saratoga Spa State Park
UID:e.2254.7695
SEQUENCE:3
DTSTAMP:20260423T213954Z
URL:https://chamber.saratoga.org/events/details/spring-scavenger-hunt-04-29-2015-7695
END:VEVENT

END:VCALENDAR
