BEGIN:VCALENDAR
VERSION:2.0
PRODID:-//ChamberMaster//Event Calendar 2.0//EN
METHOD:PUBLISH
X-PUBLISHED-TTL:P3D
REFRESH-INTERVAL:P3D
CALSCALE:GREGORIAN
BEGIN:VEVENT
DTSTART:20160429T200000Z
DTEND:20160429T183000Z
X-MICROSOFT-CDO-ALLDAYEVENT:FALSE
SUMMARY:Spring Renewal Wellness Retreat
DESCRIPTION:"Spring Renewal Wellness Retreat"\n\nStarting now\, at The Gideon Putnam and Roosevelt Baths & Spa.\n\nApril 29   May 1\, 2016\n\n\n\nAmerica's first wellness spa and hotel have teamed up to offer a retreat where nature inspires us to be the best version of ourselves. You will be immersed in programs\, workshops\, and meals that are specifically designed to rejuvenate mind\, body and spirit.\n\n\n\nLocated in the lush Saratoga Spa State Park\, you will find yourself surrounded by a feeling of serenity and calm that promises to lift you up. It encourages you\, and it brings you to a better place than when you arrived. It is a place that was designed for making people feel better. Our desire is to bring to you the gift of greater health and well-being.\n\nYou will spend an entire weekend immersed in physical and spiritual wellness programs and events. The package includes:\n\n\n	Two night accommodations at The Gideon Putnam\n	One Mineral Bath each day\n	Breakfast each morning\n	Two Lunches (includes one cooking demonstration)\n	One Dinner\n	Activities and Workshops (see itinerary)\n	Gift Journal\n\n\nClick Here More Information
X-ALT-DESC;FMTTYPE=text/html:<p><strong><strong>&ldquo\;Spring Renewal Wellness Retreat&rdquo\;</strong></strong></p>\n\n<p><strong>Starting now\, at The Gideon Putnam and Roosevelt Baths &amp\; Spa.</strong></p>\n\n<p><strong><strong>April 29 &ndash\; May 1\, 2016</strong></strong><br />\n<br />\nAmerica&rsquo\;s first wellness spa and hotel have teamed up to offer a retreat where nature inspires us to be the best version of ourselves. You will be immersed in programs\, workshops\, and meals that are specifically designed to rejuvenate mind\, body and spirit.<br />\n<br />\nLocated in the lush Saratoga Spa State Park\, you will find yourself surrounded by a feeling of serenity and calm that promises to lift you up. It encourages you\, and it brings you to a better place than when you arrived. It is a place that was designed for making people feel better. Our desire is to bring to you the gift of greater health and well-being.</p>\n\n<p>You will spend an entire weekend immersed in physical and spiritual wellness programs and events. The package includes:</p>\n\n<ul style="list-style-type: disc\;">\n	<li>Two night accommodations at The Gideon Putnam</li>\n	<li>One Mineral Bath each day</li>\n	<li>Breakfast each morning</li>\n	<li>Two Lunches (includes one cooking demonstration)</li>\n	<li>One Dinner</li>\n	<li>Activities and Workshops (see itinerary)</li>\n	<li>Gift Journal</li>\n</ul>\n\n<p><strong><strong><a href="http://www.gideonputnam.com/roosevelt-baths-and-spa/spa-specials">Click Here More Information</a></strong></strong></p>\n
LOCATION:Roosevelt Baths & Spa at The Gideon Putnam
UID:e.2254.15602
SEQUENCE:3
DTSTAMP:20260421T163844Z
URL:https://chamber.saratoga.org/events/details/spring-renewal-wellness-retreat-04-29-2016-15602
END:VEVENT

END:VCALENDAR
