BEGIN:VCALENDAR
VERSION:2.0
PRODID:-//ChamberMaster//Event Calendar 2.0//EN
METHOD:PUBLISH
X-PUBLISHED-TTL:P3D
REFRESH-INTERVAL:P3D
CALSCALE:GREGORIAN
BEGIN:VEVENT
DTSTART:20150502T140000Z
DTEND:20150502T210000Z
X-MICROSOFT-CDO-ALLDAYEVENT:FALSE
SUMMARY:Spring for Art
DESCRIPTION:The Shirt Factory Open House features artist demonstrations\, special sales and promotions\, guest artisans\, and a basket raffle to benefit The Snuggery at Glens Falls Hospital. Live music by Stories Told.
X-ALT-DESC;FMTTYPE=text/html:The Shirt Factory Open House features artist demonstrations\, special sales and promotions\, guest artisans\, and a basket raffle to benefit The Snuggery at Glens Falls Hospital. Live music by Stories Told.
LOCATION:71 Lawrence Street\, Glens Falls\, NY 12801
UID:e.2254.7764
SEQUENCE:3
DTSTAMP:20260423T213843Z
URL:https://chamber.saratoga.org/events/details/spring-for-art-05-02-2015-7764
END:VEVENT

END:VCALENDAR
