BEGIN:VCALENDAR
VERSION:2.0
PRODID:-//ChamberMaster//Event Calendar 2.0//EN
METHOD:PUBLISH
X-PUBLISHED-TTL:P3D
REFRESH-INTERVAL:P3D
CALSCALE:GREGORIAN
BEGIN:VEVENT
DTSTART:20160426T140000Z
DTEND:20160429T163000Z
X-MICROSOFT-CDO-ALLDAYEVENT:FALSE
SUMMARY:Spring Break Art Camp: ?Make and Curate Your Own Art Show?
DESCRIPTION:Taught by our experienced museum educators\, this art camp will not only give the students the knowledge of creating art\, but we will give them an insight into some of the other roles in the art field. Each of our classes start with an Active Art activity that combines exercise and art making\, with a focus on fun. We will take a tour of the Museum\, learning the role of the museum educator. After creating art in the studio\, we will learn about the role of curator\, selecting paintings and sculptures that will make up our Art Show. Family will be invited to the Art Show on the last day to enjoy all of our hard work!
X-ALT-DESC;FMTTYPE=text/html:Taught by our experienced museum educators\, this art camp will not only give the students the knowledge of creating art\, but we will give them an insight into some of the other roles in the art field. Each of our classes start with an&nbsp\;Active Art activity that combines exercise and art&nbsp\;making\, with a focus on fun. We will take a tour of the Museum\, learning the role of the museum educator. After creating art in the studio\, we will learn about the role of curator\, selecting paintings and sculptures that will make up our Art Show. Family will be invited to the Art Show on the last day to enjoy all of our hard work!
LOCATION:The Hyde Collection 161 Warren St Glens Falls\, NY 12801
UID:e.2254.15653
SEQUENCE:3
DTSTAMP:20260421T163616Z
URL:https://chamber.saratoga.org/events/details/spring-break-art-camp-make-and-curate-your-own-art-show-04-26-2016-15653
END:VEVENT

END:VCALENDAR
