BEGIN:VCALENDAR
VERSION:2.0
PRODID:-//ChamberMaster//Event Calendar 2.0//EN
METHOD:PUBLISH
X-PUBLISHED-TTL:P3D
REFRESH-INTERVAL:P3D
CALSCALE:GREGORIAN
BEGIN:VEVENT
DTSTART:20161017T180000Z
DTEND:20161017T190000Z
X-MICROSOFT-CDO-ALLDAYEVENT:FALSE
SUMMARY:Sports PT of NY: Ribbon Cutting for New Malta Office
DESCRIPTION:Ribbon Cutting for new Malta Physical Therapy Office\n\n\nPlease join us for our official Ribbon Cutting on October 17th\, 2016 for Sports PT of NY at our new Ellsworth Commons location in Malta!\n\n\n\nWe look forward to opening our doors to the public from 2pm-3pm with the Ribbon Cutting event taking place at 2:30pm.\n\n\n\nWe are excited to be a part of the Malta medical community\, and look forward to continued dedication to our promise to be the primeir provider of quality patient services in a possitive professional and compassionate environment.
X-ALT-DESC;FMTTYPE=text/html:<h1 style="text-align: center\;"><span style="font-family: tahoma\;"><big><span style="font-size: 24px\;">Ribbon Cutting for new Malta Physical Therapy Office</span></big></span></h1>\n<br />\n<span style="font-family: tahoma\;"><big>Please join us for our official Ribbon Cutting on October 17th\, 2016&nbsp\;for&nbsp\;<span class="marker">Sports PT of NY&nbsp\;</span>at&nbsp\;our new&nbsp\;Ellsworth Commons location in Malta!<br />\n<br />\nWe look forward to opening our doors to the public from 2pm-3pm with the Ribbon Cutting event taking place at 2:30pm.<br />\n<br />\nWe are excited to be a part of the Malta medical&nbsp\;community\, and look forward to continued dedication to our promise to be the primeir provider of quality patient services in a possitive professional and compassionate environment. </big></span>
LOCATION:Ellsworth Commons 4102 Ellsworth Boulevard Malta\, NY 12020
UID:e.2254.20697
SEQUENCE:3
DTSTAMP:20260420T215007Z
URL:https://chamber.saratoga.org/events/details/sports-pt-of-ny-ribbon-cutting-for-new-malta-office-20697
END:VEVENT

END:VCALENDAR
