BEGIN:VCALENDAR
VERSION:2.0
PRODID:-//ChamberMaster//Event Calendar 2.0//EN
METHOD:PUBLISH
X-PUBLISHED-TTL:P3D
REFRESH-INTERVAL:P3D
CALSCALE:GREGORIAN
BEGIN:VEVENT
DTSTART:20160319T130000Z
DTEND:20160319T210000Z
X-MICROSOFT-CDO-ALLDAYEVENT:FALSE
SUMMARY:Splint Basswood Basket with Barry Keegan. #930-0319. One day
DESCRIPTION:In this one day long workshop\, we will weave with splints of pre-prepared basswood with the outer bark still attached. This application allows for students choice of the bark facing outside or inside of basket\, or even checkerboard. Students will learn to create this wonderful\, useful\, and versatile basket to enjoy for many years to come. Finished size approximately 10"tall.
X-ALT-DESC;FMTTYPE=text/html:In this one day long workshop\, we will weave with splints of pre-prepared basswood with the outer bark still attached. This application allows for students choice of the bark facing outside or inside of basket\, or even checkerboard. Students will learn to create this wonderful\, useful\, and versatile basket to enjoy for many years to come. Finished size approximately 10&quot\;tall.
LOCATION:Adirondack Folk School\, 51 Main Street\, Lake Luzerne\, NY12046
UID:e.2254.15014
SEQUENCE:3
DTSTAMP:20260422T010244Z
URL:https://chamber.saratoga.org/events/details/splint-basswood-basket-with-barry-keegan-930-0319-one-day-03-19-2016-15014
END:VEVENT

END:VCALENDAR
