BEGIN:VCALENDAR
VERSION:2.0
PRODID:-//ChamberMaster//Event Calendar 2.0//EN
METHOD:PUBLISH
X-PUBLISHED-TTL:P3D
REFRESH-INTERVAL:P3D
CALSCALE:GREGORIAN
BEGIN:VEVENT
DTSTART:20161203T230000Z
DTEND:20161204T030000Z
X-MICROSOFT-CDO-ALLDAYEVENT:FALSE
SUMMARY:Sperry's Small Business Holiday Party
DESCRIPTION:Come celebrate with other small businesses!  Companies with 20 employees or less are invited to celebrate the holidays at Sperry's.  Enjoy an open bar with wine & beer\, an elegant cocktail hour and buffet while celebrating with your colleagues and networking.
X-ALT-DESC;FMTTYPE=text/html:Come celebrate with other small businesses!&nbsp\; Companies with 20 employees or less are invited to celebrate the holidays at Sperry&#39\;s.&nbsp\; Enjoy an open bar with wine &amp\; beer\, an elegant cocktail hour and buffet while celebrating with your colleagues and networking.
LOCATION:Sperry's Restaurant 30 1/2 Caroline Street Saratoga Springs\, NY 12866
UID:e.2254.21176
SEQUENCE:3
DTSTAMP:20260420T184202Z
URL:https://chamber.saratoga.org/events/details/sperry-s-small-business-holiday-party-21176
END:VEVENT

END:VCALENDAR
