BEGIN:VCALENDAR
VERSION:2.0
PRODID:-//ChamberMaster//Event Calendar 2.0//EN
METHOD:PUBLISH
X-PUBLISHED-TTL:P3D
REFRESH-INTERVAL:P3D
CALSCALE:GREGORIAN
BEGIN:VEVENT
DTSTART:20140923T200000Z
DTEND:20140923T220000Z
X-MICROSOFT-CDO-ALLDAYEVENT:FALSE
SUMMARY:Speed Networking with the local Business and Professional Associations
DESCRIPTION:Networking in a fun\, fast-paced environment!You are invited to join the Saratoga County Chamber of Commerce\, the Ballston Spa\, Burnt Hills/Ballston Lake\, Malta and Greenfield Business and Professional Associations for a fun night of fast-paced speednetworking. Each attendee will have one minute to explain their business\, products and services to the other attendees. Afterward\, connect with each other during a reception following the speed networking portion. Space is limited to the first 50 people.
X-ALT-DESC;FMTTYPE=text/html:<p>Networking in a fun\, fast-paced environment!</p><p>You are invited to join the Saratoga County Chamber of Commerce\, the Ballston Spa\, Burnt Hills/Ballston Lake\, Malta and Greenfield Business and Professional Associations for a fun night of fast-paced speednetworking. Each attendee will have one minute to explain their business\, products and services to the other attendees. Afterward\, connect with each other during a reception following the speed networking portion. Space is limited to the first 50 people.</p>
LOCATION:Dock Browns
UID:e.2254.606
SEQUENCE:3
DTSTAMP:20260424T111008Z
URL:https://chamber.saratoga.org/events/details/speed-networking-with-the-local-business-and-professional-associations-09-23-2014-606
END:VEVENT

END:VCALENDAR
