BEGIN:VCALENDAR
VERSION:2.0
PRODID:-//ChamberMaster//Event Calendar 2.0//EN
METHOD:PUBLISH
X-PUBLISHED-TTL:P3D
REFRESH-INTERVAL:P3D
CALSCALE:GREGORIAN
BEGIN:VEVENT
DTSTART:20150706T123000Z
DTEND:20150828T190000Z
X-MICROSOFT-CDO-ALLDAYEVENT:FALSE
SUMMARY:Spanish Fun Summer Camp
DESCRIPTION:The goal of Spanish Fun Camp is to introduce campers to the Spanish language and help kids start their journey to bilingualism! The program moves to a new level every week. Every week we will have three groups: Beginners\, Intermediate and Advanced. All students are placed in the right level on day one. Level selection is based on the campers comfort to read\, write and speak in Spanish. The instructor will differentiate the Spanish lesson for the camper depending on their language level and age. Every week kids will explore a new Spanish country. They will learn about the country?s culture\, food\, art\, history and music. Activities include: arts & crafts\, games\, songs\, and conversational Spanish. If your kids complete all 8 levels we guarantee that they'll be fluent (conversational level) by the end of the Summer. Age Group: 3 years old 4 years old 5 years old 6 - 9 years old 10 - 12 years old Class Size: 3 y/o group: 18 children Other age groups: 21 children Pricing: $ 120 Schedule: Monday to Friday - From 8:30 AM to 3:00 PM Week Sessions: Week 1: July 6th Week 2: July 13th Week 3: July 20th Week 4: July 27th Week 5: Aug. 3rd Week 6: Aug. 10th Week 7: Aug. 17th Week 8: Aug. 24th Morning Care ($20 per week) 7:30 AM ? 8:30 AM and After Care ($40 per week) 3:00 PM ? 6:00 PM Registration: http://thegeniusplaza.com/spanish-fun-camp/ Phone: 518.280.9550
X-ALT-DESC;FMTTYPE=text/html:The goal of Spanish Fun Camp is to introduce campers to the Spanish language and help kids start their journey to bilingualism! The program moves to a new level every week. Every week we will have three groups: Beginners\, Intermediate and Advanced. All students are placed in the right level on day one. Level selection is based on the campers comfort to read\, write and speak in Spanish. The instructor will differentiate the Spanish lesson for the camper depending on their language level and age. Every week kids will explore a new Spanish country. They will learn about the country?s culture\, food\, art\, history and music. Activities include: arts &amp\; crafts\, games\, songs\, and conversational Spanish. If your kids complete all 8 levels we guarantee that they&#39\;ll be fluent (conversational level) by the end of the Summer. Age Group: 3 years old 4 years old 5 years old 6 - 9 years old 10 - 12 years old Class Size: 3 y/o group: 18 children Other age groups: 21 children Pricing: $ 120 Schedule: Monday to Friday - From 8:30 AM to 3:00 PM Week Sessions: Week 1: July 6th Week 2: July 13th Week 3: July 20th Week 4: July 27th Week 5: Aug. 3rd Week 6: Aug. 10th Week 7: Aug. 17th Week 8: Aug. 24th Morning Care ($20 per week) 7:30 AM ? 8:30 AM and After Care ($40 per week) 3:00 PM ? 6:00 PM Registration: http://thegeniusplaza.com/spanish-fun-camp/ Phone: 518.280.9550
LOCATION:The Genius Plaza - 511 Moe Road\, Clifton Park\, NY 12065
UID:e.2254.7639
SEQUENCE:3
DTSTAMP:20260423T022308Z
URL:https://chamber.saratoga.org/events/details/spanish-fun-summer-camp-07-06-2015-7639
END:VEVENT

END:VCALENDAR
