BEGIN:VCALENDAR
VERSION:2.0
PRODID:-//ChamberMaster//Event Calendar 2.0//EN
METHOD:PUBLISH
X-PUBLISHED-TTL:P3D
REFRESH-INTERVAL:P3D
CALSCALE:GREGORIAN
BEGIN:VEVENT
DTSTART:20160516T030000Z
DTEND:20160516T030000Z
X-MICROSOFT-CDO-ALLDAYEVENT:FALSE
SUMMARY:SPAC's 5K Rock & Run
DESCRIPTION:SPAC's 5K Rock & Run\nSPAC's 5K Rock & Run - the region's fastest growing 5K - is back again in 2016! Live bands energize the route through our treasured Spa State Park. Register online\, spac.org.
X-ALT-DESC;FMTTYPE=text/html:<p>SPAC&#39\;s 5K Rock &amp\; Run</p>\nSPAC&#39\;s 5K Rock &amp\; Run - the region&#39\;s fastest growing 5K - is back again in 2016! Live bands energize the route through our treasured Spa State Park. Register online\, spac.org.
LOCATION:The Saratoga Performing Arts Center
UID:e.2254.1392
SEQUENCE:3
DTSTAMP:20260421T163644Z
URL:https://chamber.saratoga.org/events/details/spac-s-5k-rock-run-05-15-2016-1392
END:VEVENT

END:VCALENDAR
