BEGIN:VCALENDAR
VERSION:2.0
PRODID:-//ChamberMaster//Event Calendar 2.0//EN
METHOD:PUBLISH
X-PUBLISHED-TTL:P3D
REFRESH-INTERVAL:P3D
CALSCALE:GREGORIAN
BEGIN:VEVENT
DTSTART:20161001T123000Z
DTEND:20161001T213000Z
X-MICROSOFT-CDO-ALLDAYEVENT:FALSE
SUMMARY:Southwest Trinket Bowl Basket with Beverly Cornelius. #919-1001.
DESCRIPTION:This striking twill patterned bowl is gorgeous on a wall or on an entry table for collecting your keys or jewelry. Students will choose three colors from a variety of dyed reed to weave their baskets. Some basket weaving experience may be helpful but not necessary. Approximate size 7-1/2" x2"deep.\n\n\n\n \n\n\nNOTE:  Student to bring to class: Basin for water\, sheetrock knife\, an old towel and washcloth\, clip clothespins and a spray bottle.
X-ALT-DESC;FMTTYPE=text/html:<pre>\n<span style="color:black"><span style="font-family:arial\,sans-serif"><span style="font-size:12.0pt">This striking twill patterned bowl is gorgeous on a wall or on an entry table for collecting your keys or jewelry. Students will choose three colors from a variety of dyed reed to weave their baskets. Some basket weaving experience may be helpful but not necessary. Approximate size 7-1/2&quot\; x2&quot\;deep.</span></span></span></pre>\n\n<pre>\n\n&nbsp\;</pre>\n\n<pre>\n<strong><span style="color:black"><span style="font-family:\n"><span style="font-size:12.0pt">NOTE:&nbsp\; Student to bring to class: Basin for water\, sheetrock knife\, an old towel and washcloth\, clip clothespins and a spray bottle.</span></span></span></strong></pre>\n
LOCATION:Adirondack Folk School 51 Main Street Lake Luzerne\, NY 12846
UID:e.2254.16978
SEQUENCE:3
DTSTAMP:20260420T215913Z
URL:https://chamber.saratoga.org/events/details/southwest-trinket-bowl-basket-with-beverly-cornelius-919-1001-10-01-2016-16978
END:VEVENT

END:VCALENDAR
