BEGIN:VCALENDAR
VERSION:2.0
PRODID:-//ChamberMaster//Event Calendar 2.0//EN
METHOD:PUBLISH
X-PUBLISHED-TTL:P3D
REFRESH-INTERVAL:P3D
CALSCALE:GREGORIAN
BEGIN:VEVENT
DTSTART:20160924T140000Z
DTEND:20160925T200000Z
X-MICROSOFT-CDO-ALLDAYEVENT:FALSE
SUMMARY:Southern Adirondack Fiber Festival & Romney Sheep Show
DESCRIPTION:The Southern Adirondack Fiber Festival & Romney Sheep Show has many events to attend. There will be knitting & spinning classes\, fleece show and sale\, fiber arts book signing and much more. For event schedule visit our website @ www.adkfiber.com
X-ALT-DESC;FMTTYPE=text/html:The Southern Adirondack Fiber Festival &amp\; Romney Sheep Show has many events to attend. There will be knitting &amp\; spinning classes\, fleece show and sale\, fiber arts book signing and much more. For event schedule visit our website @ www.adkfiber.com
LOCATION:Washington County Fairgrounds 392 Old Schuylerville Road Greenwich\, NY 12834
UID:e.2254.15279
SEQUENCE:3
DTSTAMP:20260420T232457Z
URL:https://chamber.saratoga.org/events/details/southern-adirondack-fiber-festival-romney-sheep-show-09-24-2016-15279
END:VEVENT

END:VCALENDAR
