BEGIN:VCALENDAR
VERSION:2.0
PRODID:-//ChamberMaster//Event Calendar 2.0//EN
METHOD:PUBLISH
X-PUBLISHED-TTL:P3D
REFRESH-INTERVAL:P3D
CALSCALE:GREGORIAN
BEGIN:VEVENT
DTSTART:20150301T210000Z
DTEND:20150301T230000Z
X-MICROSOFT-CDO-ALLDAYEVENT:FALSE
SUMMARY:South High Dance Marathon Bowling Fundraiser
DESCRIPTION:Sunday\, March 1\, 4 p.m-6 p.m.   Bowling Fundraiser $10/person - includes 2 hours of bowling w/ shoes There will be door prizes\, raffle baskets and 50/50
X-ALT-DESC;FMTTYPE=text/html:Sunday\, March 1\,&nbsp\;4&nbsp\;p.m-6 p.m. &nbsp\; Bowling Fundraiser $10/person - includes 2 hours of bowling w/ shoes There will be door prizes\, raffle baskets and 50/50
LOCATION:King Pins Alley Bowling Center\, South Glens Falls
UID:e.2254.6136
SEQUENCE:3
DTSTAMP:20260423T214142Z
URL:https://chamber.saratoga.org/events/details/south-high-dance-marathon-bowling-fundraiser-03-01-2015-6136
END:VEVENT

END:VCALENDAR
