BEGIN:VCALENDAR
VERSION:2.0
PRODID:-//ChamberMaster//Event Calendar 2.0//EN
METHOD:PUBLISH
X-PUBLISHED-TTL:P3D
REFRESH-INTERVAL:P3D
CALSCALE:GREGORIAN
BEGIN:VEVENT
DTSTART:20160710T150000Z
DTEND:20160710T210000Z
X-MICROSOFT-CDO-ALLDAYEVENT:FALSE
SUMMARY:Soroptimist International 22nd Annual Secret Garden Tour
DESCRIPTION:Soroptimist International of Saratoga County's 22nd Annual Secret Garden Tour\n\nSelect gardeners in and around Saratoga volunteer to open their "private spaces" to hundreds of visitors for this self-guided tour. All funds raised help benefit women and girls locally and globally through the donations of the Soroptimist Organization.\n\nTickets are available through the day of the event. For more information visit  www.soroptimistsaratoga.org\, email secretgardensinfo@gmail.com\, or call (518)581-1201 ext.4184
X-ALT-DESC;FMTTYPE=text/html:Soroptimist International of Saratoga County&#39\;s 22nd Annual Secret Garden Tour<br />\nSelect gardeners in and around Saratoga volunteer to open their &quot\;private spaces&quot\; to hundreds of visitors for this self-guided tour. All funds raised help benefit women and girls locally and globally through the donations of the Soroptimist&nbsp\;Organization.<br />\nTickets are available through the day of the event. For more information visit &nbsp\;www.soroptimistsaratoga.org\, email secretgardensinfo@gmail.com\, or call (518)581-1201 ext.4184
LOCATION:Self-guided tour throughout Saratoga Springs
UID:e.2254.14262
SEQUENCE:3
DTSTAMP:20260421T051333Z
URL:https://chamber.saratoga.org/events/details/soroptimist-international-22nd-annual-secret-garden-tour-07-10-2016-14262
END:VEVENT

END:VCALENDAR
