BEGIN:VCALENDAR
VERSION:2.0
PRODID:-//ChamberMaster//Event Calendar 2.0//EN
METHOD:PUBLISH
X-PUBLISHED-TTL:P3D
REFRESH-INTERVAL:P3D
CALSCALE:GREGORIAN
BEGIN:VEVENT
DTSTART:20150501T180000Z
DTEND:20150503T143000Z
X-MICROSOFT-CDO-ALLDAYEVENT:FALSE
SUMMARY:Sons of Union Veterans in the State of New York\, Encampment
DESCRIPTION:Friday: NYS Military Museum 6:00-9:30 pm Sat: 8:30-12:00 Meetings 12:00-1:00 Luncheon (reservation) 1:30-5:00 Business Meetings 7:00-9:00 Banquet (reservation) Sun: 9:00-10:00 Greenridge Cem. Memorial
X-ALT-DESC;FMTTYPE=text/html:Friday: NYS Military Museum 6:00-9:30 pm Sat: 8:30-12:00 Meetings 12:00-1:00 Luncheon (reservation) 1:30-5:00 Business Meetings 7:00-9:00 Banquet (reservation) Sun: 9:00-10:00 Greenridge Cem. Memorial
LOCATION:Holiday Inn
UID:e.2254.7664
SEQUENCE:3
DTSTAMP:20260423T165448Z
URL:https://chamber.saratoga.org/events/details/sons-of-union-veterans-in-the-state-of-new-york-encampment-05-01-2015-7664
END:VEVENT

END:VCALENDAR
