BEGIN:VCALENDAR
VERSION:2.0
PRODID:-//ChamberMaster//Event Calendar 2.0//EN
METHOD:PUBLISH
X-PUBLISHED-TTL:P3D
REFRESH-INTERVAL:P3D
CALSCALE:GREGORIAN
BEGIN:VEVENT
DTSTART:20150419T173000Z
DTEND:20150419T183000Z
X-MICROSOFT-CDO-ALLDAYEVENT:FALSE
SUMMARY:Songs of Nature
DESCRIPTION:Popular singer and musician Linda Russell returns to the park with her guitar! Come join and sing along to spirited songs about nature\, animals\, and the Earth Day movement.
X-ALT-DESC;FMTTYPE=text/html:<span style="font-size: 10pt\; line-height: 115%\; font-family: Georgia\, serif\;">Popular singer and musician Linda Russell returns to the park with her guitar! Come join and sing along to spirited songs about nature\, animals\, and the Earth Day movement.&nbsp\; <span style="letter-spacing:-.05pt">&nbsp\; &nbsp\; &nbsp\;&nbsp\;</span></span><br>
LOCATION:Saratoga National Historical Park
UID:e.2254.4928
SEQUENCE:3
DTSTAMP:20260423T200119Z
URL:https://chamber.saratoga.org/events/details/songs-of-nature-04-19-2015-4928
END:VEVENT

END:VCALENDAR
