BEGIN:VCALENDAR
VERSION:2.0
PRODID:-//ChamberMaster//Event Calendar 2.0//EN
METHOD:PUBLISH
X-PUBLISHED-TTL:P3D
REFRESH-INTERVAL:P3D
CALSCALE:GREGORIAN
BEGIN:VEVENT
DTSTART:20140718T190000Z
DTEND:20140719T200000Z
X-MICROSOFT-CDO-ALLDAYEVENT:FALSE
SUMMARY:Solomon Northup Day - 07/18/2014
DESCRIPTION:16th Annual celebration of Solomon Northup\, Twelve Years a Slave \nTo celebrate the contribution of African-Americans\, diversity of cultures and the story of Solomon Northup\, based on his autobiography\, Twelve Years a Slave.  This event is held annually the third Saturday in July at Skidmore College: To celebrate as we bring to light all the people involved in the struggle for freedom in the Americas and encourage a better understanding of freedom and justice through the eyes of the African-American experience past and present\; and encourage youth participation in the struggle for freedom throughout the world.   Descendants attend each year.
X-ALT-DESC;FMTTYPE=text/html:<p>16th Annual celebration of Solomon Northup\, Twelve Years a Slave</p><p> </p>\n<i><font size="1"></font><p><font size="1">To celebrate the contribution of African-Americans\, diversity of cultures and the story of Solomon Northup\, based on his autobiography\, Twelve Years a Slave.&nbsp\; This event is held annually the&nbsp\;third Saturday in July at Skidmore College: To celebrate as we bring to light all the people involved in the struggle for freedom in the Americas and encourage a better understanding of freedom and justice through the eyes of the African-American experience past and present\; and encourage youth participation in the struggle for freedom throughout the world</font><font face="Calibri\,Calibri" size="1"><font face="Calibri\,Calibri" size="1">.&nbsp\;&nbsp\; Descendants attend each year.</font></font></p></i>
LOCATION:Skidmore College
UID:e.2254.4799
SEQUENCE:3
DTSTAMP:20260424T222252Z
URL:https://chamber.saratoga.org/events/details/solomon-northup-day-07-18-2014-07-18-2014-4799
END:VEVENT

END:VCALENDAR
