BEGIN:VCALENDAR
VERSION:2.0
PRODID:-//ChamberMaster//Event Calendar 2.0//EN
METHOD:PUBLISH
X-PUBLISHED-TTL:P3D
REFRESH-INTERVAL:P3D
CALSCALE:GREGORIAN
BEGIN:VEVENT
DTSTART:20150212T233000Z
DTEND:20150213T003000Z
X-MICROSOFT-CDO-ALLDAYEVENT:FALSE
SUMMARY:SolarCity Seminar: Going Solar is Simple and Affordable.
DESCRIPTION:Making your home an energy producing home is more attainable now than ever. Control your energy needs\, and stabilize your costs. Learn of the many benefits of going solar\, including the available tax credits\, state incentives\, and other programs. Promote sustainability while paying LESS for your energy. Come to see if your home may qualify.
X-ALT-DESC;FMTTYPE=text/html:Making your home an energy producing home is more attainable now than ever. Control your energy needs\, and stabilize your costs. Learn of the many benefits of going solar\, including the available tax credits\, state incentives\, and other programs. Promote sustainability while paying LESS for your energy. Come to see if your home may qualify.
LOCATION:Saratoga Springs Rec Center at 15 Vanderbilt Ave.\, Saratoga Springs.
UID:e.2254.4973
SEQUENCE:3
DTSTAMP:20260424T003502Z
URL:https://chamber.saratoga.org/events/details/solarcity-seminar-going-solar-is-simple-and-affordable-02-12-2015-4973
END:VEVENT

END:VCALENDAR
