BEGIN:VCALENDAR
VERSION:2.0
PRODID:-//ChamberMaster//Event Calendar 2.0//EN
METHOD:PUBLISH
X-PUBLISHED-TTL:P3D
REFRESH-INTERVAL:P3D
CALSCALE:GREGORIAN
BEGIN:VEVENT
DTSTART:20151209T213000Z
DTEND:20151210T003000Z
X-MICROSOFT-CDO-ALLDAYEVENT:FALSE
SUMMARY:Snow-A-Palooza 2015
DESCRIPTION:Stop by Bryant & Stratton College in Malta for a community winter celebration featuring hot cocoa\, Santa\, wheel of prizes and much more for kids of all ages!
X-ALT-DESC;FMTTYPE=text/html:Stop by Bryant &amp\; Stratton College in Malta for a community winter celebration featuring hot cocoa\, Santa\, wheel of prizes and much more for kids of all ages!
LOCATION:2452 Route 9. Malta\, NY 12020
UID:e.2254.13122
SEQUENCE:3
DTSTAMP:20260422T084356Z
URL:https://chamber.saratoga.org/events/details/snow-a-palooza-2015-12-09-2015-13122
END:VEVENT

END:VCALENDAR
