BEGIN:VCALENDAR
VERSION:2.0
PRODID:-//ChamberMaster//Event Calendar 2.0//EN
METHOD:PUBLISH
X-PUBLISHED-TTL:P3D
REFRESH-INTERVAL:P3D
CALSCALE:GREGORIAN
BEGIN:VEVENT
DTSTART:20160724T223000Z
DTEND:20160725T030000Z
X-MICROSOFT-CDO-ALLDAYEVENT:FALSE
SUMMARY:Slipknot
DESCRIPTION:Slipknot\, Marilyn Manson\, and Of Mice & Men\n\n\n\nFor more information and to purchase tickets visit www.livenation.com
X-ALT-DESC;FMTTYPE=text/html:Slipknot\, Marilyn Manson\, and Of Mice &amp\; Men<br />\n<br />\nFor more information and to purchase tickets visit www.livenation.com&nbsp\;
LOCATION:Saratoga Performing Arts Center 108 Avenue of the Pines Saratoga Springs\, NY 12866
UID:e.2254.14961
SEQUENCE:3
DTSTAMP:20260421T062626Z
URL:https://chamber.saratoga.org/events/details/slipknot-07-24-2016-14961
END:VEVENT

END:VCALENDAR
