BEGIN:VCALENDAR
VERSION:2.0
PRODID:-//ChamberMaster//Event Calendar 2.0//EN
METHOD:PUBLISH
X-PUBLISHED-TTL:P3D
REFRESH-INTERVAL:P3D
CALSCALE:GREGORIAN
BEGIN:VEVENT
DTSTART:20170222T180000Z
DTEND:20170222T190000Z
X-MICROSOFT-CDO-ALLDAYEVENT:FALSE
SUMMARY:Skull Science
DESCRIPTION:Use animal skulls and furs to discover how different animals have adapted to survive in their habitats. We will be examining animal artifacts during this interactive lesson. Best for children ages 8 and up. Pre- registration required by February 20th.
X-ALT-DESC;FMTTYPE=text/html:Use animal skulls and furs to discover how different animals have adapted to survive in their habitats. We will be examining animal artifacts during this interactive lesson. Best for children ages 8 and up. Pre- registration required by February 20th.
LOCATION:Wilton Wildlife Preserve and Park Office at 80 Scout Road\, Gansevoort\, NY 12831
UID:e.2254.21406
SEQUENCE:3
DTSTAMP:20260420T123735Z
URL:https://chamber.saratoga.org/events/details/skull-science-21406
END:VEVENT

END:VCALENDAR
