BEGIN:VCALENDAR
VERSION:2.0
PRODID:-//ChamberMaster//Event Calendar 2.0//EN
METHOD:PUBLISH
X-PUBLISHED-TTL:P3D
REFRESH-INTERVAL:P3D
CALSCALE:GREGORIAN
BEGIN:VEVENT
DTSTART:20160217T180000Z
DTEND:20160217T190000Z
X-MICROSOFT-CDO-ALLDAYEVENT:FALSE
SUMMARY:Skull Science
DESCRIPTION:Using real animal skulls\, participants will discover how different animals have adapted to survive in their habitats. We will be examining animal artifacts\, including skulls and furs during this interactive lesson. Best for children ages 8 and up. Pre- registration required by February 16th.
X-ALT-DESC;FMTTYPE=text/html:Using real animal skulls\, participants will discover how different animals have adapted to survive in their habitats. We will be examining animal artifacts\, including skulls and furs during this interactive lesson. Best for children ages 8 and up. Pre- registration required by February 16th.
LOCATION:80 Scout Rd Gansevoort\, NY 12831
UID:e.2254.13208
SEQUENCE:3
DTSTAMP:20260422T022055Z
URL:https://chamber.saratoga.org/events/details/skull-science-02-17-2016-13208
END:VEVENT

END:VCALENDAR
