BEGIN:VCALENDAR
VERSION:2.0
PRODID:-//ChamberMaster//Event Calendar 2.0//EN
METHOD:PUBLISH
X-PUBLISHED-TTL:P3D
REFRESH-INTERVAL:P3D
CALSCALE:GREGORIAN
BEGIN:VEVENT
DTSTART:20160701T170000Z
DTEND:20160701T190000Z
X-MICROSOFT-CDO-ALLDAYEVENT:FALSE
SUMMARY:Skidmore Summer Jazz Institute: Student Concert
DESCRIPTION:Skidmore Summer Jazz Institute: Student Concert 1 p.m.-Zankel Music Center Free admission. For more information call 518-580-5321
X-ALT-DESC;FMTTYPE=text/html:Skidmore Summer Jazz Institute: Student Concert 1 p.m.-Zankel Music Center Free admission. For more information call 518-580-5321
LOCATION:Skidmore College\, Arthur Zankel Music Center 815 N Broadway Saratoga Springs\, NY 12866
UID:e.2254.17128
SEQUENCE:3
DTSTAMP:20260421T051140Z
URL:https://chamber.saratoga.org/events/details/skidmore-summer-jazz-institute-student-concert-07-01-2016-17128
END:VEVENT

END:VCALENDAR
