BEGIN:VCALENDAR
VERSION:2.0
PRODID:-//ChamberMaster//Event Calendar 2.0//EN
METHOD:PUBLISH
X-PUBLISHED-TTL:P3D
REFRESH-INTERVAL:P3D
CALSCALE:GREGORIAN
BEGIN:VEVENT
DTSTART:20150701T000000Z
DTEND:20150701T030000Z
X-MICROSOFT-CDO-ALLDAYEVENT:FALSE
SUMMARY:Skidmore Summer Jazz Institute: Gary Bartz Quartet
DESCRIPTION:Skidmore Summer Jazz Institute: Gary Bartz Quartet 8 p.m.-Arthur Zankel Music Center\, Ladd Hall $8 adults\, $5 senior citizens and Skidmore community\, free for students and children. For reservations go to www.skidmore.edu/Zankel For more information call 518-580-5321
X-ALT-DESC;FMTTYPE=text/html:Skidmore Summer Jazz Institute: Gary Bartz Quartet 8 p.m.-Arthur Zankel Music Center\, Ladd Hall $8 adults\, $5 senior citizens and Skidmore community\, free for students and children. For reservations go to www.skidmore.edu/Zankel For more information call 518-580-5321
LOCATION:Arthur Zankel Music Center\, Skidmore College 815 North Broadway Saratoga Springs\, NY 12866
UID:e.2254.9635
SEQUENCE:3
DTSTAMP:20260423T073922Z
URL:https://chamber.saratoga.org/events/details/skidmore-summer-jazz-institute-gary-bartz-quartet-06-30-2015-9635
END:VEVENT

END:VCALENDAR
