BEGIN:VCALENDAR
VERSION:2.0
PRODID:-//ChamberMaster//Event Calendar 2.0//EN
METHOD:PUBLISH
X-PUBLISHED-TTL:P3D
REFRESH-INTERVAL:P3D
CALSCALE:GREGORIAN
BEGIN:VEVENT
DTSTART:20150710T000000Z
DTEND:20150710T020000Z
X-MICROSOFT-CDO-ALLDAYEVENT:FALSE
SUMMARY:Skidmore Summer Jazz Institute: Faculty Septet
DESCRIPTION:Skidmore Jazz Institute Faculty Septet Featuring Bill Cunliffe (piano)\, Doug Weiss (bass)\, Dennis Mackrel (drums)\, Vic Juris (guitar)\, Jimmy Greene (saxophone)\, Sean Jones (trumpet)\, and James Burton III (trombone)
X-ALT-DESC;FMTTYPE=text/html:Skidmore Jazz Institute Faculty Septet Featuring Bill Cunliffe (piano)\, Doug Weiss (bass)\, Dennis Mackrel (drums)\, Vic Juris (guitar)\, Jimmy Greene (saxophone)\, Sean Jones (trumpet)\, and James Burton III (trombone)
LOCATION:Arthur Zankel Music Center Skidmore College 815 N Broadway Saratoga Springs\, NY 12866
UID:e.2254.9729
SEQUENCE:3
DTSTAMP:20260423T041253Z
URL:https://chamber.saratoga.org/events/details/skidmore-summer-jazz-institute-faculty-septet-07-09-2015-9729
END:VEVENT

END:VCALENDAR
