BEGIN:VCALENDAR
VERSION:2.0
PRODID:-//ChamberMaster//Event Calendar 2.0//EN
METHOD:PUBLISH
X-PUBLISHED-TTL:P3D
REFRESH-INTERVAL:P3D
CALSCALE:GREGORIAN
BEGIN:VEVENT
DTSTART:20150703T000000Z
DTEND:20150703T020000Z
X-MICROSOFT-CDO-ALLDAYEVENT:FALSE
SUMMARY:Skidmore Summer Jazz Institute: Faculty Septet
DESCRIPTION:Featuring Bill Cunliffe (piano)\, David Wong (bass)\, Dennis Mackrel (drums)\, Paul Bollenback (guitar)\, Antonio Hart (alto saxophone)\, Mike Rodriguez (trumpet)\, and Michael Dease (trombone)
X-ALT-DESC;FMTTYPE=text/html:Featuring Bill Cunliffe (piano)\, David Wong (bass)\, Dennis Mackrel (drums)\, Paul Bollenback (guitar)\, Antonio Hart (alto saxophone)\, Mike Rodriguez (trumpet)\, and Michael Dease (trombone)
LOCATION:Arthur Zankel Music Center Skidmore College 815 N Broadway Saratoga Springs\, NY 12866
UID:e.2254.9693
SEQUENCE:3
DTSTAMP:20260423T041404Z
URL:https://chamber.saratoga.org/events/details/skidmore-summer-jazz-institute-faculty-septet-07-02-2015-9693
END:VEVENT

END:VCALENDAR
